BEGIN:VCALENDAR
VERSION:2.0
PRODID:-//Sabre//Sabre VObject 4.5.8//EN
CALSCALE:GREGORIAN
BEGIN:VEVENT
UID:sabre-vobject-2d79c7ea-7d3e-4b60-b670-7a113d32fcf6
DTSTAMP:20260425T203249Z
SUMMARY:NAF Sale
DESCRIPTION:
X-ALT-DESC:FMTTYPE=text/html:<!DOCTYPE HTML PUBLIC "-//W3C//DTD HTML 3.2//E
 N"><HTML></HTML>
CREATED;TZID=America/Denver:20240408T143449
URL;VALUE=URI:https://whitesands.armymwr.com/calendar/event
DTSTART;TZID=America/Denver:20240425T090000
DTEND;TZID=America/Denver:20240425T123000
SEQUENCE:0
END:VEVENT
END:VCALENDAR
