BEGIN:VCALENDAR
VERSION:2.0
PRODID:-//Sabre//Sabre VObject 4.5.8//EN
CALSCALE:GREGORIAN
BEGIN:VEVENT
UID:sabre-vobject-e2c0bc74-9b83-47a5-bf51-e362d0e94ffa
DTSTAMP:20260422T042729Z
SUMMARY:Bingo Night
DESCRIPTION:It&#39\;s time for BINGO!\n
X-ALT-DESC:FMTTYPE=text/html:<!DOCTYPE HTML PUBLIC "-//W3C//DTD HTML 3.2//E
 N"><HTML><p>It&#39\;s time for BINGO!</p>\n</HTML>
CREATED;TZID=America/Denver:20221109T102809
URL;VALUE=URI:https://whitesands.armymwr.com/calendar/event
DTSTART;TZID=America/Denver:20221214T180000
DTEND;TZID=America/Denver:20221214T190000
SEQUENCE:0
END:VEVENT
END:VCALENDAR
