BEGIN:VCALENDAR
VERSION:2.0
PRODID:-//Sabre//Sabre VObject 4.5.8//EN
CALSCALE:GREGORIAN
BEGIN:VEVENT
UID:sabre-vobject-75ae462f-4420-464b-861c-df8e6221a7b4
DTSTAMP:20260423T002308Z
SUMMARY:10th Annual Holiday Light Parade
DESCRIPTION:Come celebrate the Holidays!\n
X-ALT-DESC:FMTTYPE=text/html:<!DOCTYPE HTML PUBLIC "-//W3C//DTD HTML 3.2//E
 N"><HTML><p>Come celebrate the Holidays!</p>\n</HTML>
CREATED;TZID=America/Denver:20221118T161445
URL;VALUE=URI:https://whitesands.armymwr.com/calendar/event
DTSTART;TZID=America/Denver:20221202T174500
DTEND;TZID=America/Denver:20221202T200000
SEQUENCE:0
END:VEVENT
END:VCALENDAR
