BEGIN:VCALENDAR
VERSION:2.0
PRODID:-//Sabre//Sabre VObject 4.5.8//EN
CALSCALE:GREGORIAN
BEGIN:VEVENT
UID:sabre-vobject-6eb493c6-59aa-443f-8abc-2f6877844b2b
DTSTAMP:20260420T231506Z
SUMMARY:Prime Time Football
DESCRIPTION:Catch the game at the Frontier Club! Now serving Draft Beer.&nb
 sp\;\n
X-ALT-DESC:FMTTYPE=text/html:<!DOCTYPE HTML PUBLIC "-//W3C//DTD HTML 3.2//E
 N"><HTML><p>Catch the game at the Frontier Club! Now serving <strong>Draft
  Beer</strong>.&nbsp\;</p>\n</HTML>
CREATED;TZID=America/Denver:20221109T103405
URL;VALUE=URI:https://whitesands.armymwr.com/calendar/event
DTSTART;TZID=America/Denver:20221107T173000
DTEND;TZID=America/Denver:20221107T220000
SEQUENCE:0
END:VEVENT
BEGIN:VEVENT
UID:sabre-vobject-eb0a06a3-339e-4a8e-945b-1e838b4528e1
DTSTAMP:20260420T231506Z
SUMMARY:Prime Time Football
DESCRIPTION:Catch the game at the Frontier Club! Now serving Draft Beer.&nb
 sp\;\n
X-ALT-DESC:FMTTYPE=text/html:<!DOCTYPE HTML PUBLIC "-//W3C//DTD HTML 3.2//E
 N"><HTML><p>Catch the game at the Frontier Club! Now serving <strong>Draft
  Beer</strong>.&nbsp\;</p>\n</HTML>
CREATED;TZID=America/Denver:20221109T103405
URL;VALUE=URI:https://whitesands.armymwr.com/calendar/event
DTSTART;TZID=America/Denver:20221205T173000
DTEND;TZID=America/Denver:20221205T220000
SEQUENCE:1
END:VEVENT
BEGIN:VEVENT
UID:sabre-vobject-54952d1f-8d98-4364-ba7f-7698ef0cb7b6
DTSTAMP:20260420T231506Z
SUMMARY:Prime Time Football
DESCRIPTION:Catch the game at the Frontier Club! Now serving Draft Beer.&nb
 sp\;\n
X-ALT-DESC:FMTTYPE=text/html:<!DOCTYPE HTML PUBLIC "-//W3C//DTD HTML 3.2//E
 N"><HTML><p>Catch the game at the Frontier Club! Now serving <strong>Draft
  Beer</strong>.&nbsp\;</p>\n</HTML>
CREATED;TZID=America/Denver:20221109T103405
URL;VALUE=URI:https://whitesands.armymwr.com/calendar/event
DTSTART;TZID=America/Denver:20221212T173000
DTEND;TZID=America/Denver:20221212T220000
SEQUENCE:2
END:VEVENT
END:VCALENDAR
