BEGIN:VCALENDAR
VERSION:2.0
PRODID:-//Sabre//Sabre VObject 4.5.8//EN
CALSCALE:GREGORIAN
BEGIN:VEVENT
UID:sabre-vobject-14b75a2e-83db-4b99-a196-d1311b8d7038
DTSTAMP:20260420T232419Z
SUMMARY:Sunday Night Football 
DESCRIPTION:&nbsp\;Now serving Daft Beer.\n
X-ALT-DESC:FMTTYPE=text/html:<!DOCTYPE HTML PUBLIC "-//W3C//DTD HTML 3.2//E
 N"><HTML><p>&nbsp\;Now serving <strong>Daft Beer</strong>.</p>\n</HTML>
CREATED;TZID=America/Denver:20221109T103215
URL;VALUE=URI:https://whitesands.armymwr.com/calendar/event
DTSTART;TZID=America/Denver:20221112T103000
DTEND;TZID=America/Denver:20221112T220000
SEQUENCE:0
END:VEVENT
BEGIN:VEVENT
UID:sabre-vobject-2952b554-ed49-45b5-ad0d-f9c8c7d7a50f
DTSTAMP:20260420T232419Z
SUMMARY:Sunday Night Football 
DESCRIPTION:&nbsp\;Now serving Daft Beer.\n
X-ALT-DESC:FMTTYPE=text/html:<!DOCTYPE HTML PUBLIC "-//W3C//DTD HTML 3.2//E
 N"><HTML><p>&nbsp\;Now serving <strong>Daft Beer</strong>.</p>\n</HTML>
CREATED;TZID=America/Denver:20221109T103215
URL;VALUE=URI:https://whitesands.armymwr.com/calendar/event
DTSTART;TZID=America/Denver:20221204T103000
DTEND;TZID=America/Denver:20221204T220000
SEQUENCE:1
END:VEVENT
BEGIN:VEVENT
UID:sabre-vobject-050ba944-ca30-4f64-bb6c-0d7fefed0630
DTSTAMP:20260420T232419Z
SUMMARY:Sunday Night Football 
DESCRIPTION:&nbsp\;Now serving Daft Beer.\n
X-ALT-DESC:FMTTYPE=text/html:<!DOCTYPE HTML PUBLIC "-//W3C//DTD HTML 3.2//E
 N"><HTML><p>&nbsp\;Now serving <strong>Daft Beer</strong>.</p>\n</HTML>
CREATED;TZID=America/Denver:20221109T103215
URL;VALUE=URI:https://whitesands.armymwr.com/calendar/event
DTSTART;TZID=America/Denver:20221211T103000
DTEND;TZID=America/Denver:20221211T220000
SEQUENCE:2
END:VEVENT
BEGIN:VEVENT
UID:sabre-vobject-49aca28b-0927-4959-893b-5a8b3bde2d2c
DTSTAMP:20260420T232419Z
SUMMARY:Sunday Night Football 
DESCRIPTION:&nbsp\;Now serving Daft Beer.\n
X-ALT-DESC:FMTTYPE=text/html:<!DOCTYPE HTML PUBLIC "-//W3C//DTD HTML 3.2//E
 N"><HTML><p>&nbsp\;Now serving <strong>Daft Beer</strong>.</p>\n</HTML>
CREATED;TZID=America/Denver:20221109T103215
URL;VALUE=URI:https://whitesands.armymwr.com/calendar/event
DTSTART;TZID=America/Denver:20221218T103000
DTEND;TZID=America/Denver:20221218T220000
SEQUENCE:3
END:VEVENT
END:VCALENDAR
