BEGIN:VCALENDAR
VERSION:2.0
PRODID:-//Sabre//Sabre VObject 4.5.8//EN
CALSCALE:GREGORIAN
BEGIN:VEVENT
UID:sabre-vobject-a8687af1-01bd-4dd0-ad39-42a8e3d8d324
DTSTAMP:20260421T022043Z
SUMMARY:10 Steps to Building a Federal Resume
DESCRIPTION:Let ACS help you get prepared for your next career move.&nbsp\;
 \n
X-ALT-DESC:FMTTYPE=text/html:<!DOCTYPE HTML PUBLIC "-//W3C//DTD HTML 3.2//E
 N"><HTML><p>Let ACS help you get prepared for your next career move.&nbsp\
 ;</p>\n</HTML>
CREATED;TZID=America/Denver:20220926T145448
URL;VALUE=URI:https://whitesands.armymwr.com/calendar/event
DTSTART;TZID=America/Denver:20221005T113000
DTEND;TZID=America/Denver:20221005T123000
SEQUENCE:0
END:VEVENT
END:VCALENDAR
