BEGIN:VCALENDAR
VERSION:2.0
PRODID:-//Sabre//Sabre VObject 4.5.8//EN
CALSCALE:GREGORIAN
BEGIN:VEVENT
UID:sabre-vobject-79457a30-4930-4cc2-a50f-2378895e16aa
DTSTAMP:20260420T233410Z
SUMMARY:Sunday Night Football
DESCRIPTION:Watch the games at the Frontier Club.\n
X-ALT-DESC:FMTTYPE=text/html:<!DOCTYPE HTML PUBLIC "-//W3C//DTD HTML 3.2//E
 N"><HTML><p>Watch the games at the Frontier Club.</p>\n</HTML>
CREATED;TZID=America/Denver:20220822T135740
URL;VALUE=URI:https://whitesands.armymwr.com/calendar/event
DTSTART;TZID=America/Denver:20220911T103000
DTEND;TZID=America/Denver:20220911T220000
SEQUENCE:0
END:VEVENT
BEGIN:VEVENT
UID:sabre-vobject-f3701734-4ca0-4a93-ae89-272b1e64d313
DTSTAMP:20260420T233410Z
SUMMARY:Sunday Night Football
DESCRIPTION:Watch the games at the Frontier Club.\n
X-ALT-DESC:FMTTYPE=text/html:<!DOCTYPE HTML PUBLIC "-//W3C//DTD HTML 3.2//E
 N"><HTML><p>Watch the games at the Frontier Club.</p>\n</HTML>
CREATED;TZID=America/Denver:20220822T135740
URL;VALUE=URI:https://whitesands.armymwr.com/calendar/event
DTSTART;TZID=America/Denver:20220918T103000
DTEND;TZID=America/Denver:20220918T220000
SEQUENCE:1
END:VEVENT
END:VCALENDAR
