BEGIN:VCALENDAR
VERSION:2.0
PRODID:-//Sabre//Sabre VObject 4.5.8//EN
CALSCALE:GREGORIAN
BEGIN:VEVENT
UID:sabre-vobject-45519b64-70ab-41bb-abe1-64d6098fbd59
DTSTAMP:20260419T211128Z
SUMMARY:Korean Meatballs - Thursday Special 
DESCRIPTION:Come out and enjoy this month lunchtime special\n
X-ALT-DESC:FMTTYPE=text/html:<!DOCTYPE HTML PUBLIC "-//W3C//DTD HTML 3.2//E
 N"><HTML><p>Come out and enjoy this month lunchtime special</p>\n</HTML>
CREATED;TZID=America/Denver:20220901T104321
URL;VALUE=URI:https://whitesands.armymwr.com/calendar/event
DTSTART;TZID=America/Denver:20220901T110000
DTEND;TZID=America/Denver:20220901T140000
SEQUENCE:0
END:VEVENT
END:VCALENDAR
