BEGIN:VCALENDAR
VERSION:2.0
PRODID:-//Sabre//Sabre VObject 4.5.8//EN
CALSCALE:GREGORIAN
BEGIN:VEVENT
UID:sabre-vobject-783a3cd7-af37-4cae-95fd-c98ebe126f08
DTSTAMP:20260420T233414Z
SUMMARY:WSMR Oktoberfest
DESCRIPTION:Oktoberfest is back on WSMR!\n
X-ALT-DESC:FMTTYPE=text/html:<!DOCTYPE HTML PUBLIC "-//W3C//DTD HTML 3.2//E
 N"><HTML><p>Oktoberfest is back on WSMR!</p>\n</HTML>
CREATED;TZID=America/Denver:20220822T132229
URL;VALUE=URI:https://whitesands.armymwr.com/calendar/event
DTSTART;TZID=America/Denver:20220924T180000
DTEND;TZID=America/Denver:20220924T000000
SEQUENCE:0
END:VEVENT
END:VCALENDAR
