BEGIN:VCALENDAR
VERSION:2.0
PRODID:-//Sabre//Sabre VObject 4.5.8//EN
CALSCALE:GREGORIAN
BEGIN:VEVENT
UID:sabre-vobject-938eb180-7f7d-4704-9801-132214b7bf15
DTSTAMP:20260419T155943Z
SUMMARY:Make Your Own: Wrapping Paper
DESCRIPTION:Create your own unique gift wrapping paper\n
X-ALT-DESC:FMTTYPE=text/html:<!DOCTYPE HTML PUBLIC "-//W3C//DTD HTML 3.2//E
 N"><HTML><p>Create your own unique gift wrapping paper</p>\n</HTML>
CREATED;TZID=America/Denver:20181129T111119
URL;VALUE=URI:https://whitesands.armymwr.com/calendar/event
DTSTART;TZID=America/Denver:20181201T130000
DTEND;TZID=America/Denver:20181201T150000
SEQUENCE:0
END:VEVENT
END:VCALENDAR
