BEGIN:VCALENDAR
VERSION:2.0
PRODID:-//Sabre//Sabre VObject 4.5.8//EN
CALSCALE:GREGORIAN
BEGIN:VEVENT
UID:sabre-vobject-09d7162d-befc-4556-b31e-6f9a90875a13
DTSTAMP:20260419T155943Z
SUMMARY:How The Grinch Stole Breakfast
DESCRIPTION:Eat Breakfast with The Grinch and Santa!\n
X-ALT-DESC:FMTTYPE=text/html:<!DOCTYPE HTML PUBLIC "-//W3C//DTD HTML 3.2//E
 N"><HTML><p>Eat Breakfast with The Grinch and Santa!</p>\n</HTML>
CREATED;TZID=America/Denver:20181024T152244
URL;VALUE=URI:https://whitesands.armymwr.com/calendar/event
DTSTART;TZID=America/Denver:20181205T090000
DTEND;TZID=America/Denver:20181205T110000
SEQUENCE:0
END:VEVENT
END:VCALENDAR
