BEGIN:VCALENDAR
VERSION:2.0
PRODID:-//Sabre//Sabre VObject 4.5.8//EN
CALSCALE:GREGORIAN
BEGIN:VEVENT
UID:sabre-vobject-e4cd59ec-4e23-4f7e-aef2-085d637abd3f
DTSTAMP:20260419T204047Z
SUMMARY:BOSS Pizza Night
DESCRIPTION:Enjoy a slice with fellow BOSS Soldiers\n
X-ALT-DESC:FMTTYPE=text/html:<!DOCTYPE HTML PUBLIC "-//W3C//DTD HTML 3.2//E
 N"><HTML><p>Enjoy a slice with fellow BOSS Soldiers</p>\n</HTML>
CREATED;TZID=America/Denver:20181026T101736
URL;VALUE=URI:https://whitesands.armymwr.com/calendar/event
DTSTART;TZID=America/Denver:20181116T163000
DTEND;TZID=America/Denver:20181116T183000
SEQUENCE:0
END:VEVENT
END:VCALENDAR
