BEGIN:VCALENDAR
VERSION:2.0
PRODID:-//Sabre//Sabre VObject 4.5.8//EN
CALSCALE:GREGORIAN
BEGIN:VEVENT
UID:sabre-vobject-804e0406-de27-40d1-9fcc-543ff9252f7f
DTSTAMP:20260419T204047Z
SUMMARY:Christkindl Market
DESCRIPTION:Enjoy a German Style Christmas Market\n
X-ALT-DESC:FMTTYPE=text/html:<!DOCTYPE HTML PUBLIC "-//W3C//DTD HTML 3.2//E
 N"><HTML><p>Enjoy a German Style Christmas Market</p>\n</HTML>
CREATED;TZID=America/Denver:20181024T120838
URL;VALUE=URI:https://whitesands.armymwr.com/calendar/event
DTSTART;TZID=America/Denver:20181115T110000
DTEND;TZID=America/Denver:20181115T170000
SEQUENCE:0
END:VEVENT
BEGIN:VEVENT
UID:sabre-vobject-aebd5726-abe6-47f6-9a09-b6f26a79c9d5
DTSTAMP:20260419T204047Z
SUMMARY:Christkindl Market
DESCRIPTION:Enjoy a German Style Christmas Market\n
X-ALT-DESC:FMTTYPE=text/html:<!DOCTYPE HTML PUBLIC "-//W3C//DTD HTML 3.2//E
 N"><HTML><p>Enjoy a German Style Christmas Market</p>\n</HTML>
CREATED;TZID=America/Denver:20181024T120838
URL;VALUE=URI:https://whitesands.armymwr.com/calendar/event
DTSTART;TZID=America/Denver:20181116T110000
DTEND;TZID=America/Denver:20181116T170000
SEQUENCE:1
END:VEVENT
END:VCALENDAR
