BEGIN:VCALENDAR
VERSION:2.0
PRODID:-//Sabre//Sabre VObject 4.5.8//EN
CALSCALE:GREGORIAN
BEGIN:VEVENT
UID:sabre-vobject-98c9a087-de51-4305-9aa4-3456a0c56561
DTSTAMP:20260423T025929Z
SUMMARY:August Story Time
DESCRIPTION:Back to School Storytime with Snaggle the Puppet!\n
X-ALT-DESC:FMTTYPE=text/html:<!DOCTYPE HTML PUBLIC "-//W3C//DTD HTML 3.2//E
 N"><HTML><p>Back to School Storytime with Snaggle the Puppet!</p>\n</HTML>
CREATED;TZID=America/Denver:20180824T100418
URL;VALUE=URI:https://whitesands.armymwr.com/calendar/event
DTSTART;TZID=America/Denver:20180824T100000
DTEND;TZID=America/Denver:20180824T110000
SEQUENCE:0
END:VEVENT
END:VCALENDAR
